BEGIN:VCALENDAR
VERSION:2.0
PRODID:-//Marshlands Conservancy - Friends of Marshlands - Rye, NY 10580 - ECPv6.15.20//NONSGML v1.0//EN
CALSCALE:GREGORIAN
METHOD:PUBLISH
X-WR-CALNAME:Marshlands Conservancy - Friends of Marshlands - Rye, NY 10580
X-ORIGINAL-URL:https://marshlandsconservancy.org
X-WR-CALDESC:Events for Marshlands Conservancy - Friends of Marshlands - Rye, NY 10580
REFRESH-INTERVAL;VALUE=DURATION:PT1H
X-Robots-Tag:noindex
X-PUBLISHED-TTL:PT1H
BEGIN:VTIMEZONE
TZID:America/New_York
BEGIN:DAYLIGHT
TZOFFSETFROM:-0500
TZOFFSETTO:-0400
TZNAME:EDT
DTSTART:20250309T070000
END:DAYLIGHT
BEGIN:STANDARD
TZOFFSETFROM:-0400
TZOFFSETTO:-0500
TZNAME:EST
DTSTART:20251102T060000
END:STANDARD
BEGIN:DAYLIGHT
TZOFFSETFROM:-0500
TZOFFSETTO:-0400
TZNAME:EDT
DTSTART:20260308T070000
END:DAYLIGHT
BEGIN:STANDARD
TZOFFSETFROM:-0400
TZOFFSETTO:-0500
TZNAME:EST
DTSTART:20261101T060000
END:STANDARD
BEGIN:DAYLIGHT
TZOFFSETFROM:-0500
TZOFFSETTO:-0400
TZNAME:EDT
DTSTART:20270314T070000
END:DAYLIGHT
BEGIN:STANDARD
TZOFFSETFROM:-0400
TZOFFSETTO:-0500
TZNAME:EST
DTSTART:20271107T060000
END:STANDARD
END:VTIMEZONE
BEGIN:VEVENT
DTSTART;TZID=America/New_York:20260613T223000
DTEND;TZID=America/New_York:20260613T223000
DTSTAMP:20260420T042621
CREATED:20260320T155709Z
LAST-MODIFIED:20260320T160106Z
UID:9041-1781389800-1781389800@marshlandsconservancy.org
SUMMARY:NIGHT of the Horseshoe Crabs!
DESCRIPTION:Witness the wondrous phenomenon of Horseshoe Crabs arriving at Marshlands’ shoreline during the NIGHT high-tide period. With guest naturalist Scott Williamson. Pre-registration required.  Meet at the nature center at 10:30 PM. Weather permitting.FREE
URL:https://marshlandsconservancy.org/event/night-of-the-horseshoe-crabs/
LOCATION:Marshlands Conservancy\, 220 Boston Post Road\, Rye\, NY\, 10580\, United States
CATEGORIES:Animal Program,Special Event
END:VEVENT
END:VCALENDAR